BEGIN:VCALENDAR
VERSION:2.0
PRODID:-//The Psycholar - ECPv6.2.8.2//NONSGML v1.0//EN
CALSCALE:GREGORIAN
METHOD:PUBLISH
X-WR-CALNAME:The Psycholar
X-ORIGINAL-URL:https://thepsycholar.com
X-WR-CALDESC:Events for The Psycholar
REFRESH-INTERVAL;VALUE=DURATION:PT1H
X-Robots-Tag:noindex
X-PUBLISHED-TTL:PT1H
BEGIN:VTIMEZONE
TZID:UTC
BEGIN:STANDARD
TZOFFSETFROM:+0000
TZOFFSETTO:+0000
TZNAME:UTC
DTSTART:20240101T000000
END:STANDARD
END:VTIMEZONE
BEGIN:VEVENT
DTSTART;TZID=UTC:20240218T110000
DTEND;TZID=UTC:20240218T130000
DTSTAMP:20260422T091736
CREATED:20240211T125903Z
LAST-MODIFIED:20240211T173125Z
UID:6896-1708254000-1708261200@thepsycholar.com
SUMMARY:Mindful Mirror: Nurturing Body Positivity and Inner Serenity
DESCRIPTION:Ms. Rimsha Bukhari to faccilitate on how manifest and practice positivity in the dark times. \nRegister Now
URL:https://thepsycholar.com/event/workshop-6/
LOCATION:Zoom/Google Meet\, Lahore\, Punjab\, 54600\, Pakistan
CATEGORIES:Free Workshops
ATTACH;FMTTYPE=image/png:https://thepsycholar.com/wp-content/uploads/2024/02/Workshop-6-Mindful-Mirror.png
ORGANIZER;CN="The Psycholar":MAILTO:info@psycholar.com
END:VEVENT
BEGIN:VEVENT
DTSTART;TZID=UTC:20240211T170000
DTEND;TZID=UTC:20240211T190000
DTSTAMP:20260422T091736
CREATED:20240204T154343Z
LAST-MODIFIED:20240206T100542Z
UID:6723-1707670800-1707678000@thepsycholar.com
SUMMARY:Psychological FIrst Aid: Eseential Skills and Strategies
DESCRIPTION:Ms. Mubashra Nasir will faccilitate on guiding how\, where and when Psychological First Aid is necessary and what are the steps to execute PFA perfectly. \nRegister Now
URL:https://thepsycholar.com/event/psychological-first-aid-eseential-skills-and-strategies/
LOCATION:Zoom/Google Meet\, Lahore\, Punjab\, 54600\, Pakistan
CATEGORIES:Free Workshops
ORGANIZER;CN="The Psycholar":MAILTO:info@psycholar.com
END:VEVENT
BEGIN:VEVENT
DTSTART;TZID=UTC:20240210T140000
DTEND;TZID=UTC:20240210T160000
DTSTAMP:20260422T091736
CREATED:20240204T142937Z
LAST-MODIFIED:20240204T154606Z
UID:6718-1707573600-1707580800@thepsycholar.com
SUMMARY:Brain and Behavior: Exploring Role of Neural Activity on Behavior
DESCRIPTION:Ms Sahar Nasim will engage the participants while introducing the role of brain activity on behavior. She would aim at allowing participants to learn how to manage behavior by looking at neural activity. \n  \nRegister Now
URL:https://thepsycholar.com/event/brain-and-behavior-exploring-role-of-neural-activity-on-behavior/
LOCATION:Zoom/Google Meet\, Lahore\, Punjab\, 54600\, Pakistan
CATEGORIES:Free Workshops
ORGANIZER;CN="The Psycholar":MAILTO:info@psycholar.com
END:VEVENT
BEGIN:VEVENT
DTSTART;TZID=UTC:20240204T130000
DTEND;TZID=UTC:20240204T150000
DTSTAMP:20260422T091736
CREATED:20240129T193703Z
LAST-MODIFIED:20240130T140814Z
UID:6515-1707051600-1707058800@thepsycholar.com
SUMMARY:A Comprehensive Exploration of Dialectical Behaviour Therapy (DBT)
DESCRIPTION:Dialectical Behavior Therapy (DBT) is a therapeutic approach developed by Dr. Marsha M. Linehan\, blending cognitive-behavioral methods with acceptance strategies. Initially designed for borderline personality disorder\, DBT consists of four core components: mindfulness\, interpersonal effectiveness\, emotion regulation\, and distress tolerance. It aims to strike a balance between acceptance and change\, offering practical skills to enhance present-moment awareness\, improve relationships\, regulate emotions\, and cope with distress. DBT is widely utilized for various mental health issues\, emphasizing a structured and effective approach to treatment. \nRegister Now
URL:https://thepsycholar.com/event/a-comprehensive-exploration-of-dialectical-behaviour-therapy/
LOCATION:Zoom/Google Meet\, Lahore\, Punjab\, 54600\, Pakistan
CATEGORIES:Free Workshops
ORGANIZER;CN="The Psycholar":MAILTO:info@psycholar.com
END:VEVENT
BEGIN:VEVENT
DTSTART;TZID=UTC:20240128T110000
DTEND;TZID=UTC:20240128T130000
DTSTAMP:20260422T091736
CREATED:20240121T133103Z
LAST-MODIFIED:20240130T115924Z
UID:6422-1706439600-1706446800@thepsycholar.com
SUMMARY:Circle of Excellence: A Powerful NLP Technique to Regain Positive Vibe.
DESCRIPTION:Experience the transformative potential of NLP in our FREE workshop featuring the “Circle of Excellence technique”! Mark your calendars for Jan 28\, 2024\, and enhance your skills. #NLPWorkshop #CircleOfExcellence #PersonalDevelopment #ThePsycholar \nIn This Workshop\, You’ll Learn: \n\nInstant positivity button\nEnergises body\nHarmonize thought & emotions\nLights up the soul\n\n  \nRegister Now
URL:https://thepsycholar.com/event/circle-of-excellence-a-powerful-nlp-technique-to-regain-positive-vibe/
LOCATION:Zoom/Google Meet\, Lahore\, Punjab\, 54600\, Pakistan
CATEGORIES:Free Workshops
ORGANIZER;CN="The Psycholar":MAILTO:info@psycholar.com
END:VEVENT
END:VCALENDAR